BEGIN:VCALENDAR
VERSION:2.0
PRODID:-//IASA Global - ECPv6.15.17//NONSGML v1.0//EN
CALSCALE:GREGORIAN
METHOD:PUBLISH
X-WR-CALNAME:IASA Global
X-ORIGINAL-URL:https://www.iasaglobal.org
X-WR-CALDESC:Events for IASA Global
REFRESH-INTERVAL;VALUE=DURATION:PT1H
X-Robots-Tag:noindex
X-PUBLISHED-TTL:PT1H
BEGIN:VTIMEZONE
TZID:America/Chicago
BEGIN:DAYLIGHT
TZOFFSETFROM:-0600
TZOFFSETTO:-0500
TZNAME:CDT
DTSTART:20250309T080000
END:DAYLIGHT
BEGIN:STANDARD
TZOFFSETFROM:-0500
TZOFFSETTO:-0600
TZNAME:CST
DTSTART:20251102T070000
END:STANDARD
BEGIN:DAYLIGHT
TZOFFSETFROM:-0600
TZOFFSETTO:-0500
TZNAME:CDT
DTSTART:20260308T080000
END:DAYLIGHT
BEGIN:STANDARD
TZOFFSETFROM:-0500
TZOFFSETTO:-0600
TZNAME:CST
DTSTART:20261101T070000
END:STANDARD
BEGIN:DAYLIGHT
TZOFFSETFROM:-0600
TZOFFSETTO:-0500
TZNAME:CDT
DTSTART:20270314T080000
END:DAYLIGHT
BEGIN:STANDARD
TZOFFSETFROM:-0500
TZOFFSETTO:-0600
TZNAME:CST
DTSTART:20271107T070000
END:STANDARD
END:VTIMEZONE
BEGIN:VTIMEZONE
TZID:Europe/Helsinki
BEGIN:DAYLIGHT
TZOFFSETFROM:+0200
TZOFFSETTO:+0300
TZNAME:EEST
DTSTART:20250330T010000
END:DAYLIGHT
BEGIN:STANDARD
TZOFFSETFROM:+0300
TZOFFSETTO:+0200
TZNAME:EET
DTSTART:20251026T010000
END:STANDARD
BEGIN:DAYLIGHT
TZOFFSETFROM:+0200
TZOFFSETTO:+0300
TZNAME:EEST
DTSTART:20260329T010000
END:DAYLIGHT
BEGIN:STANDARD
TZOFFSETFROM:+0300
TZOFFSETTO:+0200
TZNAME:EET
DTSTART:20261025T010000
END:STANDARD
BEGIN:DAYLIGHT
TZOFFSETFROM:+0200
TZOFFSETTO:+0300
TZNAME:EEST
DTSTART:20270328T010000
END:DAYLIGHT
BEGIN:STANDARD
TZOFFSETFROM:+0300
TZOFFSETTO:+0200
TZNAME:EET
DTSTART:20271031T010000
END:STANDARD
END:VTIMEZONE
BEGIN:VEVENT
DTSTART;TZID=America/Chicago:20260526T090000
DTEND;TZID=America/Chicago:20260730T110000
DTSTAMP:20260424T175111
CREATED:20241216T181149Z
LAST-MODIFIED:20260413T140455Z
UID:10000024-1779786000-1785409200@www.iasaglobal.org
SUMMARY:AI Architecture Online - May
DESCRIPTION:Course Summary\nCourse Format: Online\, Twice a Week\, Tuesday & Thursday\nSchedule: May 26 04:00 pm – July 30 @ 06:00 pm CEST\nTotal of weeks: 10 weeks\nTotal Weekly Hours: 4 Hours\nCertificate: After passing the exam\, you will receive an email with instructions on how to claim your digital badge. \nWhat you’ll learn\n\nUnderstand what AI tools to use and when.\nHow MLOps can be woven in an existing culture of automation.\nArticulate core ML concepts in both orthodox and heterox applications.\nHow to monitor AI systems for performance and reliability.\nWhat security risks and ethical obligations exist for your use cases.\nHow the AI Center of Excellence model can be applied to your company to create a hub for AI innovation and discovery.\nWhich laws and regulations are relevant to your industry and geography.\n\nDescription\nThe AI Delivery and Strategy course equips executives\, managers\, and technical professionals with the knowledge to implement AI effectively within businesses. This intensive program goes beyond the hype\, providing a comprehensive foundation in AI principles\, frameworks\, and best practices. \nParticipants gain a deep understanding of AI modalities and how to identify suitable business problems for AI solutions. The course delves into training\, validating\, and deploying AI models\, while emphasizing MLOps best practices for monitoring and maintaining them. Governance through an AI Center of Excellence is explored as a way to ensure ethical and compliant AI adoption\, considering industry-specific regulations. \nWith a business-first approach\, the course highlights the importance of security\, scalability\, and performance in AI architectures. Participants gain the skills to communicate AI concepts to both technical and non-technical audiences\, fostering collaboration and building consensus. Earning a globally recognized certification and joining a supportive professional community are additional benefits of this program. \nBenefits of IASA Certification?\n\nIndustry-recognised qualification for transformation leaders\, Business and IT architects.\nBoost your skillset credibility with globally accepted certifications.\nGain hands-on expertise in architecture methodologies and best practices.\nAccess career opportunities in enterprise architecture.\nJoin a global network of certified professionals.
URL:https://www.iasaglobal.org/event/ai-architecture-may-2026/
LOCATION:Online
CATEGORIES:AI,Training
ATTACH;FMTTYPE=image/png:https://www.iasaglobal.org/wp-content/uploads/2025/01/AI-Architecture-img.png
END:VEVENT
BEGIN:VEVENT
DTSTART;TZID=Europe/Helsinki:20260609T160000
DTEND;TZID=Europe/Helsinki:20260813T180000
DTSTAMP:20260424T175111
CREATED:20250624T142416Z
LAST-MODIFIED:20260415T123039Z
UID:10000101-1781020800-1786644000@www.iasaglobal.org
SUMMARY:Core Online Q1 - June
DESCRIPTION:Course Summary\nCourse Format: Online\, Twice a Week Schedule: June 9 04:00 pm – Aug 13 @ 06:00 pm CESTTotal of weeks: 10 weeks Total Weekly Hours: 4 Hours Certificate: After passing the exam\, you will receive an email with instructions on how to claim your digital badge. \nWhat you’ll learn\n\nWhat are architecture lifecycles\, deliverables\, and engagements.\nMethods to work across business\, technical and management stakeholders.\nWays of understanding and using customer centric design approaches.\nTools and techniques for value measurement\, tradeoff analysis\, design and quality attributes.\nMeasurable impact to business value\, project management\, and delivery.\nCritical skills in navigating change management from ideation to execution.\nStakeholder management and better human dynamic skills.\nQuality Attributes\, Design Structures and Analysis.\nDescribe an architecture using multiple viewpoints to define its total shape and impacts in both functional and quality attributes.\nRigor in both design and execution environments.\n\nDescription\nThis is course has been taught to thousands globally. It is an absolute pleasure working with architects from all over the world on understanding and growing our professional practice. We hope to work with you as well both to teach and to learn. The Iasa curriculum is designed by architects\, with architects and for architects. It is my life’s mission and true joy to have seen these ideas emerge and take root in our field. \nBenefits of IASA Certification?\n\nIndustry-recognised qualification for transformation leaders\, Business and IT architects.\nBoost your skillset credibility with globally accepted certifications.\nGain hands-on expertise in architecture methodologies and best practices.\nAccess career opportunities in enterprise architecture.\nJoin a global network of certified professionals.\n\n\n\n\n\n\n\n\n\n\n 
URL:https://www.iasaglobal.org/event/core-online-june-2026/
LOCATION:Online
CATEGORIES:Core,Training
ATTACH;FMTTYPE=image/png:https://www.iasaglobal.org/wp-content/uploads/2024/12/Course-images-07.png
END:VEVENT
END:VCALENDAR